BEGIN:VCALENDAR
VERSION:2.0
PRODID:-//eventon.com NONSGML v1.0//EN
BEGIN:VEVENT
UID:69e748d4b3997
DTSTAMP:20260421T055220
DTSTART:20200310T220000Z
DTEND:20200310T233000Z
TZID:America/Indianapolis
LOCATION:
SUMMARY:Community Connections
DESCRIPTION: @ The Kelly Auditorium&nbsp; Q & A Bethel LEAD Team Light Refreshments &nbsp;\nhttps://magazine.betheluniversity.edu/events/community-connections/
URL:https://magazine.betheluniversity.edu/events/community-connections/
END:VEVENT
END:VCALENDAR